BEGIN:VCALENDAR
VERSION:2.0
PRODID:-//Café &amp; Brouwerij de Beyerd - ECPv6.10.2//NONSGML v1.0//EN
CALSCALE:GREGORIAN
METHOD:PUBLISH
X-WR-CALNAME:Café &amp; Brouwerij de Beyerd
X-ORIGINAL-URL:https://www.beyerd.nl
X-WR-CALDESC:Evenementen voor Café &amp; Brouwerij de Beyerd
REFRESH-INTERVAL;VALUE=DURATION:PT1H
X-Robots-Tag:noindex
X-PUBLISHED-TTL:PT1H
BEGIN:VTIMEZONE
TZID:Europe/Amsterdam
BEGIN:DAYLIGHT
TZOFFSETFROM:+0100
TZOFFSETTO:+0200
TZNAME:CEST
DTSTART:20250330T010000
END:DAYLIGHT
BEGIN:STANDARD
TZOFFSETFROM:+0200
TZOFFSETTO:+0100
TZNAME:CET
DTSTART:20251026T010000
END:STANDARD
END:VTIMEZONE
BEGIN:VEVENT
DTSTART;VALUE=DATE:20251224
DTEND;VALUE=DATE:20251227
DTSTAMP:20260421T204420
CREATED:20171209T104821Z
LAST-MODIFIED:20250105T124013Z
UID:665-1766534400-1766793599@www.beyerd.nl
SUMMARY:KERST- & WINTERBIERFESTIVAL
DESCRIPTION:KERST- EN WINTERBIERFESTIVAL 24&26 DEC\nOp donderdag 24 en zaterdag 26 december organiseert de Beyerd een Kerst- en Winterbierfestival. Wij serveren deze dag minimaal 50 verschillende Kerst- en Winterbieren. \n 
URL:https://www.beyerd.nl/event/kerst-winterbierfestival/
LOCATION:Café de Beyerd\, Boschstraat 26\, Breda\, Nederland
END:VEVENT
END:VCALENDAR