BEGIN:VCALENDAR
VERSION:2.0
PRODID:-//Café &amp; Brouwerij de Beyerd - ECPv6.10.2//NONSGML v1.0//EN
CALSCALE:GREGORIAN
METHOD:PUBLISH
X-WR-CALNAME:Café &amp; Brouwerij de Beyerd
X-ORIGINAL-URL:https://www.beyerd.nl
X-WR-CALDESC:Evenementen voor Café &amp; Brouwerij de Beyerd
REFRESH-INTERVAL;VALUE=DURATION:PT1H
X-Robots-Tag:noindex
X-PUBLISHED-TTL:PT1H
BEGIN:VTIMEZONE
TZID:Europe/Amsterdam
BEGIN:DAYLIGHT
TZOFFSETFROM:+0100
TZOFFSETTO:+0200
TZNAME:CEST
DTSTART:20250330T010000
END:DAYLIGHT
BEGIN:STANDARD
TZOFFSETFROM:+0200
TZOFFSETTO:+0100
TZNAME:CET
DTSTART:20251026T010000
END:STANDARD
END:VTIMEZONE
BEGIN:VEVENT
DTSTART;VALUE=DATE:20250529
DTEND;VALUE=DATE:20250602
DTSTAMP:20260421T193458
CREATED:20151130T211447Z
LAST-MODIFIED:20250105T124938Z
UID:657-1748476800-1748822399@www.beyerd.nl
SUMMARY:JAZZFESTIVAL BREDA = BLUES in de BEYERD
DESCRIPTION:Programma jazz & bluesfestival komt Z.s.m.\n 
URL:https://www.beyerd.nl/event/jazzfestival-breda-blues-in-de-beyerd/
LOCATION:Café de Beyerd\, Boschstraat 26\, Breda\, Nederland
ORGANIZER;CN="De Beyerd":MAILTO:info@beyerd.nl
END:VEVENT
BEGIN:VEVENT
DTSTART;TZID=Europe/Amsterdam:20250521T190000
DTEND;TZID=Europe/Amsterdam:20250521T230000
DTSTAMP:20260421T193458
CREATED:20220329T142554Z
LAST-MODIFIED:20250105T124841Z
UID:4125-1747854000-1747868400@www.beyerd.nl
SUMMARY:BEYERD BIERGILDE & BROUWGILDE BREDA - THEMA AVOND
DESCRIPTION:Beste bezoeker\, \nHet Beyerd Biergilde komt 4 x per jaar samen in de Café de Beyerd. Het Gilde bestaat uit ongeveer 100 leden die bij elkaar komen en activiteiten organiseren in het teken van speciaalbier. Voor meer informatie over het Beyerd Biergilde Breda kunt u zich wenden tot het secretariaat\, bereikbaar via e-mail: secretariaat.beyerdbiergilde@gmail.com \nHet Beyerd Biergilde Breda\nThuis in Café Restaurant Brouwerij De Beyerd\,\nBoschstraat 26\, 4811 GH Breda. 076 5214265\ne-mail: info@beyerd.nl\, websiteadres: WWW.BEYERD.N
URL:https://www.beyerd.nl/event/beyerd-biergilde/
END:VEVENT
BEGIN:VEVENT
DTSTART;VALUE=DATE:20250426
DTEND;VALUE=DATE:20250427
DTSTAMP:20260421T193458
CREATED:20220329T132312Z
LAST-MODIFIED:20250329T232733Z
UID:4093-1745625600-1745711999@www.beyerd.nl
SUMMARY:KONINGSDAG
DESCRIPTION:Koningsdag is altijd een gezellig drukke dag in de Beyerd die samen gaat met de vele activiteiten die in Breda worden georganiseerd omtrent de verjaardag van onze Koning. ‘Leve de Koning’!
URL:https://www.beyerd.nl/event/koningsdag/
ORGANIZER;CN="De Beyerd":MAILTO:info@beyerd.nl
END:VEVENT
BEGIN:VEVENT
DTSTART;TZID=Europe/Amsterdam:20250413T140000
DTEND;TZID=Europe/Amsterdam:20250413T180000
DTSTAMP:20260421T193458
CREATED:20250105T122553Z
LAST-MODIFIED:20250105T130043Z
UID:6922-1744552800-1744567200@www.beyerd.nl
SUMMARY:LENTE 'BOKKEN' TOCHT
DESCRIPTION:Jaarlijkse tocht langs Bredase cafés met een stempelkaart voor een Hapje en Tapje (Lentebier) Let op: op tijd inschrijven VOL=VOL! Volg de socials!!!
URL:https://www.beyerd.nl/event/lentebokkentocht/
LOCATION:Café de Beyerd\, Boschstraat 26\, Breda\, Nederland
END:VEVENT
BEGIN:VEVENT
DTSTART;VALUE=DATE:20250411
DTEND;VALUE=DATE:20250412
DTSTAMP:20260421T193458
CREATED:20220329T132555Z
LAST-MODIFIED:20250105T125625Z
UID:4095-1744329600-1744415999@www.beyerd.nl
SUMMARY:BEYERD BIERGILDE BREDA - EXCURSIE
DESCRIPTION:Excursie naar een nog aan te kondigen Bierbestemming! \nBeste bezoeker\, \nHet Beyerd Biergilde komt 4 x per jaar samen in de Café de Beyerd. Het Gilde bestaat uit ongeveer 100 leden die bij elkaar komen en activiteiten organiseren in het teken van speciaalbier. Voor meer informatie over het Beyerd Biergilde Breda kunt u zich wenden tot het secretariaat\, bereikbaar via e-mail: secretariaat.beyerdbiergilde@gmail.com \nHet Beyerd Biergilde Breda\nThuis in Café Restaurant Brouwerij De Beyerd\,\nBoschstraat 26\, 4811 GH Breda. 076 5214265\ne-mail: info@beyerd.nl\, websiteadres: WWW.BEYERD.N
URL:https://www.beyerd.nl/event/beyerd-biergilde-breda-excursie/
END:VEVENT
BEGIN:VEVENT
DTSTART;TZID=Europe/Amsterdam:20250326T200000
DTEND;TZID=Europe/Amsterdam:20250326T233000
DTSTAMP:20260421T193458
CREATED:20151130T210604Z
LAST-MODIFIED:20250105T130107Z
UID:656-1743019200-1743031800@www.beyerd.nl
SUMMARY:AANDEELHOUDERSVERGADERING
DESCRIPTION:Aandeelhouder van Brouwerij de Beyerd\nIn 2004 is de Beyerd gestart met een eigen brouwerij. Om zijn gasten extra binding te geven met de brouwerij en de bieren die er gebrouwen worden is het sindsdien mogelijk hiervan aandeelhouder te worden. Op dit moment zijn er bijna 450 aandeelhouders welke als dank voor hun vertrouwen in Brouwerij de Beyerd jaarlijks welkom zijn op de aandeelhoudersvergadering. \nOp deze gezellige avond wordt het afgelopen brouwjaar geanalyseerd\, dividend uitgekeerd en ‘Het 4e Hoefijzer’ uitgereikt aan iemand die zich het afgelopen jaar verdienstelijk heeft gemaakt voor de Bredase biercultuur. Het serieuze gedeelte wordt afgewisseld met een programma door RvC. Met een knipoog werpen ook zij een blik op het afgelopen brouwjaar met doorgaans een suggestieve blik op de toekomst van Bredaas oudste nog werkende brouwerij: DE BEYERD! \nAandeelhouder worden? Zeer selectief geeft Brouwerij de Beyerd aandelen uit aan vaste gasten die middels een goede motivatie overtuigen niet te mogen ontbreken in dit gezelschap. Daarnaast wordt door de directie en RvC nauwlettend in de gaten gehouden of de Beyerd de actieve aandeelhouders nog kan herbergen op de Aandeelhoudersvergadering. info@beyerd.nl  \n 
URL:https://www.beyerd.nl/event/aandeelhoudersvergadering/
LOCATION:Café de Beyerd\, Boschstraat 26\, Breda\, Nederland
END:VEVENT
BEGIN:VEVENT
DTSTART;TZID=Europe/Amsterdam:20250228T080000
DTEND;TZID=Europe/Amsterdam:20250304T170000
DTSTAMP:20260421T193458
CREATED:20250105T122051Z
LAST-MODIFIED:20250105T130133Z
UID:6915-1740729600-1741107600@www.beyerd.nl
SUMMARY:CARNAVAL IN DE BEYERD 2025
DESCRIPTION:
URL:https://www.beyerd.nl/event/carnaval-in-de-beyerd-2025/
END:VEVENT
BEGIN:VEVENT
DTSTART;TZID=Europe/Amsterdam:20250129T190000
DTEND;TZID=Europe/Amsterdam:20250129T230000
DTSTAMP:20260421T193458
CREATED:20220329T131932Z
LAST-MODIFIED:20250105T130211Z
UID:4091-1738177200-1738191600@www.beyerd.nl
SUMMARY:BEYERD BIERGILDE BREDA ALV
DESCRIPTION:Beste bezoeker\, \nHet Beyerd Biergilde komt 4 x per jaar samen in de Café de Beyerd. Het Gilde bestaat uit ongeveer 100 leden die bij elkaar komen en activiteiten organiseren in het teken van speciaalbier. Voor meer informatie over het Beyerd Biergilde Breda kunt u zich wenden tot het secretariaat\, bereikbaar via e-mail: secretariaat.beyerdbiergilde@gmail.com \nHet Beyerd Biergilde BredaThuis in Café Restaurant Brouwerij De Beyerd\,Boschstraat 26\, 4811 GH Breda. 076 5214265e-mail: info@beyerd.nl\, websiteadres: WWW.BEYERD.N
URL:https://www.beyerd.nl/event/beyerd-biergilde-alv/
LOCATION:Café de Beyerd\, Boschstraat 26\, Breda\, Nederland
ATTACH;FMTTYPE=image/jpeg:https://www.beyerd.nl/wp-content/uploads/2015/03/Proeverij1.jpg
ORGANIZER;CN="De Beyerd":MAILTO:info@beyerd.nl
END:VEVENT
BEGIN:VEVENT
DTSTART;TZID=Europe/Amsterdam:20250105T190000
DTEND;TZID=Europe/Amsterdam:20250105T233000
DTSTAMP:20260421T193458
CREATED:20240305T123046Z
LAST-MODIFIED:20250105T125437Z
UID:6233-1736103600-1736119800@www.beyerd.nl
SUMMARY:BEYERD BIERGILDE AVOND OKTOBER
DESCRIPTION:Beste bezoeker\, \nHet Beyerd Biergilde komt 4 x per jaar samen in de Café de Beyerd. Het Gilde bestaat uit ongeveer 100 leden die bij elkaar komen en activiteiten organiseren in het teken van speciaalbier. Voor meer informatie over het Beyerd Biergilde Breda kunt u zich wenden tot het secretariaat\, bereikbaar via e-mail: secretariaat.beyerdbiergilde@gmail.com \nHet Beyerd Biergilde Breda\nThuis in Café Restaurant Brouwerij De Beyerd\,\nBoschstraat 26\, 4811 GH Breda. 076 5214265\ne-mail: info@beyerd.nl\, websiteadres: WWW.BEYERD.N
URL:https://www.beyerd.nl/event/beyer-biergilde-avond-oktober/
END:VEVENT
END:VCALENDAR