BEGIN:VCALENDAR
VERSION:2.0
PRODID:-//Café &amp; Brouwerij de Beyerd - ECPv6.10.2//NONSGML v1.0//EN
CALSCALE:GREGORIAN
METHOD:PUBLISH
X-ORIGINAL-URL:https://www.beyerd.nl
X-WR-CALDESC:Evenementen voor Café &amp; Brouwerij de Beyerd
REFRESH-INTERVAL;VALUE=DURATION:PT1H
X-Robots-Tag:noindex
X-PUBLISHED-TTL:PT1H
BEGIN:VTIMEZONE
TZID:Europe/Amsterdam
BEGIN:DAYLIGHT
TZOFFSETFROM:+0100
TZOFFSETTO:+0200
TZNAME:CEST
DTSTART:20250330T010000
END:DAYLIGHT
BEGIN:STANDARD
TZOFFSETFROM:+0200
TZOFFSETTO:+0100
TZNAME:CET
DTSTART:20251026T010000
END:STANDARD
END:VTIMEZONE
BEGIN:VEVENT
DTSTART;TZID=Europe/Amsterdam:20250920T170000
DTEND;TZID=Europe/Amsterdam:20250920T180000
DTSTAMP:20260421T203018
CREATED:20151130T213601Z
LAST-MODIFIED:20250105T125853Z
UID:661-1758387600-1758391200@www.beyerd.nl
SUMMARY:PRESENTATIE BEYERD HERFSTBOCK
DESCRIPTION:BEYERD HERFSTBOCK\, \nOp zaterdag 20 september luiden wij de herfst in met de presentatie van onze Beyerd Herfstbock. Dit Nederlandse roodbruine van oorsprong lage gistingsbier is een mooie goedmaker van het doorgaans trieste\, natte en gure herfstweer. Met een glas Beyerd Herfstbock aan de lippen is de herfst in een slok een stuk aantrekkelijker. Om 17u. zullen wij het eerste glas ter beoordeling voorzetten bij de beste bierproever van de Beyerd. Als de bock zijn goedkeuring krijgt (en anders ook) laten wij u graag meeproeven en bieden u een glaasje aan. Een moment om elk jaar weer naar uit te kijken – LEVE DE HERFST ! \n    \n 
URL:https://www.beyerd.nl/event/presentatie-beyerd-herfstbock-2016/
END:VEVENT
BEGIN:VEVENT
DTSTART;TZID=Europe/Amsterdam:20251005T100000
DTEND;TZID=Europe/Amsterdam:20251005T235500
DTSTAMP:20260421T203018
CREATED:20151130T213808Z
LAST-MODIFIED:20250105T125055Z
UID:662-1759658400-1759708500@www.beyerd.nl
SUMMARY:BREDASE SINGELLOOP
DESCRIPTION:Loop ook dit jaar mee in een origineel Beyerd Singelloop T-shirt ! \nMuzikale ondersteuning van de lopers door kapellen ‘Pretband de Klepzijkers’ en ‘Glupo de Kollebijne’
URL:https://www.beyerd.nl/event/bredase-singelloop-2/
LOCATION:Café de Beyerd\, Boschstraat 26\, Breda\, Nederland
ORGANIZER;CN="De Beyerd":MAILTO:info@beyerd.nl
END:VEVENT
BEGIN:VEVENT
DTSTART;TZID=Europe/Amsterdam:20251012T140000
DTEND;TZID=Europe/Amsterdam:20251012T180000
DTSTAMP:20260421T203018
CREATED:20250105T123430Z
LAST-MODIFIED:20250105T130003Z
UID:6926-1760277600-1760292000@www.beyerd.nl
SUMMARY:HERFST 'BOKKEN' TOCHT
DESCRIPTION:Jaarlijkse tocht langs Bredase cafés met een stempelkaart voor een Hapje en Tapje (Herfstbockbier) Let op: op tijd inschrijven VOL=VOL! Volg de socials!!!
URL:https://www.beyerd.nl/event/herfstbokkentocht/
LOCATION:Café de Beyerd\, Boschstraat 26\, Breda\, Nederland
END:VEVENT
BEGIN:VEVENT
DTSTART;VALUE=DATE:20251018
DTEND;VALUE=DATE:20251027
DTSTAMP:20260421T203018
CREATED:20151201T104500Z
LAST-MODIFIED:20250105T124252Z
UID:664-1760745600-1761523199@www.beyerd.nl
SUMMARY:BELGISCHE BIERWEEK
DESCRIPTION:53ste Belgische Bierweek – 18 t/m 26 oktober 2025 \n  \nZaterdag 18 oktober – Opening Belgische bierweek & Uitreiking zilveren frietje \nZondag 19 oktober – Proeverij lekkerste Belgisch …. Bier \nDinsdag 21 oktober – Bierproeven voor teams \nWoensdag 22 oktober – Rodenbach & mosselavond \nDonderdag 23 oktober – Brouwerijdag en bier & spijs \nVerdere informatie komt Z.s.m.
URL:https://www.beyerd.nl/event/41ste-belgische-bierweek/
LOCATION:Café de Beyerd\, Boschstraat 26\, Breda\, Nederland
ORGANIZER;CN="De Beyerd":MAILTO:info@beyerd.nl
END:VEVENT
BEGIN:VEVENT
DTSTART;VALUE=DATE:20251224
DTEND;VALUE=DATE:20251227
DTSTAMP:20260421T203018
CREATED:20171209T104821Z
LAST-MODIFIED:20250105T124013Z
UID:665-1766534400-1766793599@www.beyerd.nl
SUMMARY:KERST- & WINTERBIERFESTIVAL
DESCRIPTION:KERST- EN WINTERBIERFESTIVAL 24&26 DEC\nOp donderdag 24 en zaterdag 26 december organiseert de Beyerd een Kerst- en Winterbierfestival. Wij serveren deze dag minimaal 50 verschillende Kerst- en Winterbieren. \n 
URL:https://www.beyerd.nl/event/kerst-winterbierfestival/
LOCATION:Café de Beyerd\, Boschstraat 26\, Breda\, Nederland
END:VEVENT
BEGIN:VEVENT
DTSTART;TZID=Europe/Amsterdam:20251231T120000
DTEND;TZID=Europe/Amsterdam:20251231T200000
DTSTAMP:20260421T203018
CREATED:20151201T105143Z
LAST-MODIFIED:20250105T125933Z
UID:666-1767182400-1767211200@www.beyerd.nl
SUMMARY:OUDEJAARSBORREL
DESCRIPTION:Om hopelijk weer een mooi Beyerdjaar goed af te sluiten en vol goede moed aan het nieuwe te beginnen drinken we graag met u een lekker biertje ! \n \n 
URL:https://www.beyerd.nl/event/oudejaars-borrel/
LOCATION:Café de Beyerd\, Boschstraat 26\, Breda\, Nederland
END:VEVENT
END:VCALENDAR